View In:
ArcGIS JavaScript
ArcGIS Online Map Viewer
ArcGIS Earth
Service Description: Testi_web_elev_DEM_1m
Name: Testi_web_elev_DEM_1m
Description:
Single Fused Map Cache: true
Tile Info:
- Height: 256
- Width: 256
- DPI: 96
-
Levels of Detail: 17
- Format: LERC
- Compression Quality: 0.0
- LERC Error: 0.05
- Origin: X: 2.1532262E7
Y: 9557869.6
- Spatial Reference: 3879
(3879)
LatestVCSWkid(0)
Storage Info:
- Storage Format: esriMapCacheStorageModeCompactV2
- Packet Size: 128
Extent:
XMin: 2.548597793E7
YMin: 6680509.9366
XMax: 2.5510678042E7
YMax: 6698786.1345
Spatial Reference: 3879
(3879)
VCSWkid(105793)
LatestVCSWkid(3900)
Initial Extent:
XMin: 2.548597793E7
YMin: 6680509.9366
XMax: 2.5510678042E7
YMax: 6698786.1345
Spatial Reference: 3879
(3879)
VCSWkid(105793)
LatestVCSWkid(3900)
Full Extent:
XMin: 2.548597793E7
YMin: 6680509.9366
XMax: 2.5510678042E7
YMax: 6698786.1345
Spatial Reference: 3879
(3879)
VCSWkid(105793)
LatestVCSWkid(3900)
Pixel Size X: 0.9999640500384491
Pixel Size Y: 0.999956114241945
Band Count: 1
Pixel Type: F32
RasterFunction Infos: {"rasterFunctionInfos": [{
"name": "None",
"description": "",
"help": ""
}]}
Mensuration Capabilities: Basic
Inspection Capabilities:
Has Histograms: false
Has Colormap: false
Has Multi Dimensions : false
Rendering Rule:
Min Scale: 32768000
Max Scale: 500
Min LOD: 0
Max LOD: 16
Copyright Text:
Service Data Type: esriImageServiceDataTypeGeneric
Min Values: N/A
Max Values: N/A
Mean Values: N/A
Standard Deviation Values: N/A
Object ID Field:
Fields:
None
Default Mosaic Method: Center
Allowed Mosaic Methods:
SortField:
SortValue: null
Mosaic Operator: First
Default Compression Quality: 75
Default Resampling Method: Bilinear
Max Record Count: null
Max Image Height: 4100
Max Image Width: 15000
Max Download Image Count: null
Max Mosaic Image Count: null
Allow Raster Function: true
Allow Copy: true
Allow Analysis: true
Allow Compute TiePoints: false
Supports Statistics: false
Supports Advanced Queries: false
Use StandardizedQueries: true
Raster Type Infos:
Name: Raster Dataset
Description: Supports all ArcGIS Raster Datasets
Help:
Has Raster Attribute Table: false
Edit Fields Info: null
Ownership Based AccessControl For Rasters: null
Child Resources:
Info
Statistics
Key Properties
Legend
Raster Function Infos
Supported Operations:
Export Image
Identify
Measure
Compute Histograms
Compute Statistics Histograms
Get Samples
Compute Class Statistics
Query Boundary
Compute Pixel Location
Compute Angles
Validate
Project