{
 "currentVersion": 11.3,
 "serviceDescription": "Korkeusmalli_2022_2m_Web_elevation_layer",
 "name": "Korkeusmalli_2022_2m_Web_elevation_layer",
 "description": "",
 "extent": {
  "xmin": 2.5485261951E7,
  "ymin": 6680001.932,
  "xmax": 2.5511283951E7,
  "ymax": 6699369.932,
  "spatialReference": {
   "wkid": 3879,
   "latestWkid": 3879,
   "vcsWkid": 105793,
   "latestVcsWkid": 3900
  }
 },
 "initialExtent": {
  "xmin": 2.5485261951E7,
  "ymin": 6680001.932,
  "xmax": 2.5511283951E7,
  "ymax": 6699369.932,
  "spatialReference": {
   "wkid": 3879,
   "latestWkid": 3879,
   "vcsWkid": 105793,
   "latestVcsWkid": 3900
  }
 },
 "fullExtent": {
  "xmin": 2.5485261951E7,
  "ymin": 6680001.932,
  "xmax": 2.5511283951E7,
  "ymax": 6699369.932,
  "spatialReference": {
   "wkid": 3879,
   "latestWkid": 3879,
   "vcsWkid": 105793,
   "latestVcsWkid": 3900
  }
 },
 "sortableFields": "",
 "heightModelInfo": {
  "heightModel": "gravity_related_height",
  "vertCRS": "N2000_height",
  "heightUnit": "meter"
 },
 "bandCount": 1,
 "pixelType": "F32",
 "minValues": [
  0
 ],
 "maxValues": [
  110.9416809082
 ],
 "meanValues": [
  23.082669245467
 ],
 "stdvValues": [
  21.16723213813
 ],
 "hasMultidimensions": false,
 "pixelSizeX": 2,
 "pixelSizeY": 2,
 "meanPixelSize": 2,
 "datasetFormat": "TIFF",
 "uncompressedSize": 503994096,
 "blockWidth": 128,
 "blockHeight": 128,
 "compressionType": "None",
 "bandNames": [
  "Band_1"
 ],
 "allowCopy": true,
 "allowAnalysis": true,
 "itemAccess": false,
 "inspectionCapabilities": "",
 "minPixelSize": 1.0583354500042335,
 "maxPixelSize": 8669.88400643468,
 "copyrightText": "",
 "serviceDataType": "esriImageServiceDataTypeGeneric",
 "serviceSourceType": "esriImageServiceSourceTypeDataset",
 "objectIdField": "",
 "fields": [],
 "capabilities": "Image,Metadata,Mensuration",
 "defaultMosaicMethod": "Center",
 "allowedMosaicMethods": "",
 "sortField": "",
 "sortValue": null,
 "sortAscending": true,
 "mosaicOperator": "First",
 "defaultCompressionQuality": 75,
 "defaultResamplingMethod": "Bilinear",
 "maxImageHeight": 4100,
 "maxImageWidth": 15000,
 "singleFusedMapCache": true,
 "tileInfo": {
  "rows": 256,
  "cols": 256,
  "dpi": 96,
  "format": "LERC",
  "compressionQuality": 0,
  "lercError": 0.05,
  "origin": {
   "x": 21532262,
   "y": 9557869.6
  },
  "spatialReference": {
   "wkid": 3879,
   "latestWkid": 3879
  },
  "lods": [
   {
    "level": 0,
    "resolution": 8669.88400643468,
    "scale": 32768000
   },
   {
    "level": 1,
    "resolution": 4334.94200321734,
    "scale": 16384000
   },
   {
    "level": 2,
    "resolution": 2167.47100160867,
    "scale": 8192000
   },
   {
    "level": 3,
    "resolution": 1083.735500804335,
    "scale": 4096000
   },
   {
    "level": 4,
    "resolution": 541.8677504021675,
    "scale": 2048000
   },
   {
    "level": 5,
    "resolution": 270.93387520108377,
    "scale": 1024000
   },
   {
    "level": 6,
    "resolution": 135.46693760054188,
    "scale": 512000
   },
   {
    "level": 7,
    "resolution": 67.73346880027094,
    "scale": 256000
   },
   {
    "level": 8,
    "resolution": 33.86673440013547,
    "scale": 128000
   },
   {
    "level": 9,
    "resolution": 16.933367200067735,
    "scale": 64000
   },
   {
    "level": 10,
    "resolution": 8.466683600033868,
    "scale": 32000
   },
   {
    "level": 11,
    "resolution": 4.233341800016934,
    "scale": 16000
   },
   {
    "level": 12,
    "resolution": 2.116670900008467,
    "scale": 8000
   },
   {
    "level": 13,
    "resolution": 1.0583354500042335,
    "scale": 4000
   },
   {
    "level": 14,
    "resolution": 0.5291677250021167,
    "scale": 2000
   },
   {
    "level": 15,
    "resolution": 0.26458386250105836,
    "scale": 1000
   },
   {
    "level": 16,
    "resolution": 0.13229193125052918,
    "scale": 500
   }
  ]
 },
 "storageInfo": {
  "storageFormat": "esriMapCacheStorageModeCompactV2",
  "packetSize": 128
 },
 "cacheType": "Elevation",
 "allowRasterFunction": true,
 "rasterFunctionInfos": [
  {
   "name": "None",
   "description": "",
   "help": ""
  }
 ],
 "rasterTypeInfos": [
  {
   "name": "Raster Dataset",
   "description": "Supports all ArcGIS Raster Datasets",
   "help": ""
  }
 ],
 "mensurationCapabilities": "Basic",
 "hasHistograms": true,
 "hasColormap": false,
 "hasRasterAttributeTable": false,
 "minScale": 32768000,
 "maxScale": 4000,
 "minLOD": 0,
 "maxLOD": 13,
 "exportTilesAllowed": false,
 "supportsStatistics": false,
 "supportsAdvancedQueries": false,
 "editFieldsInfo": null,
 "ownershipBasedAccessControlForRasters": null,
 "allowComputeTiePoints": false,
 "useStandardizedQueries": true,
 "advancedQueryCapabilities": {
  "useStandardizedQueries": true,
  "supportsStatistics": false,
  "supportsOrderBy": false,
  "supportsDistinct": false,
  "supportsPagination": false
 },
 "spatialReference": {
  "wkid": 3879,
  "latestWkid": 3879,
  "vcsWkid": 105793,
  "latestVcsWkid": 3900
 }
}
